{
 "version": 1.0,
 "tileBundlesPath": "./tile",
 "storageInfo": {
  "packetSize": 128,
  "storageFormat": "esriMapCacheStorageModeCompactV2"
 },
 "tileImageInfo": {
  "format": "MIXED",
  "compressionQuality": 75,
  "bandCount": 1,
  "lercError": 0
 },
 "tileInfo": {
  "spatialReference": {
   "wkid": 102100,
   "latestWkid": 3857
  },
  "origin": {
   "x": -2.0037508342787E7,
   "y": 2.0037508342787E7
  },
  "rows": 256,
  "cols": 256,
  "dpi": 96,
  "lods": [
   {
    "level": 0,
    "resolution": 156543.033928,
    "scale": 5.91657527591555E8
   },
   {
    "level": 1,
    "resolution": 78271.5169639999,
    "scale": 2.95828763795777E8
   },
   {
    "level": 2,
    "resolution": 39135.7584820001,
    "scale": 1.47914381897889E8
   },
   {
    "level": 3,
    "resolution": 19567.8792409999,
    "scale": 7.3957190948944E7
   },
   {
    "level": 4,
    "resolution": 9783.93962049996,
    "scale": 3.6978595474472E7
   },
   {
    "level": 5,
    "resolution": 4891.96981024998,
    "scale": 1.8489297737236E7
   },
   {
    "level": 6,
    "resolution": 2445.98490512499,
    "scale": 9244648.868618
   },
   {
    "level": 7,
    "resolution": 1222.99245256249,
    "scale": 4622324.434309
   },
   {
    "level": 8,
    "resolution": 611.49622628138,
    "scale": 2311162.217155
   },
   {
    "level": 9,
    "resolution": 305.748113140558,
    "scale": 1155581.108577
   },
   {
    "level": 10,
    "resolution": 152.874056570411,
    "scale": 577790.554289
   },
   {
    "level": 11,
    "resolution": 76.4370282850732,
    "scale": 288895.277144
   },
   {
    "level": 12,
    "resolution": 38.2185141425366,
    "scale": 144447.638572
   },
   {
    "level": 13,
    "resolution": 19.1092570712683,
    "scale": 72223.819286
   },
   {
    "level": 14,
    "resolution": 9.55462853563415,
    "scale": 36111.909643
   },
   {
    "level": 15,
    "resolution": 4.77731426794937,
    "scale": 18055.954822
   },
   {
    "level": 16,
    "resolution": 2.38865713397468,
    "scale": 9027.977411
   },
   {
    "level": 17,
    "resolution": 1.19432856685505,
    "scale": 4513.988705
   },
   {
    "level": 18,
    "resolution": 0.597164283559817,
    "scale": 2256.994353
   },
   {
    "level": 19,
    "resolution": 0.298582141647617,
    "scale": 1128.497176
   },
   {
    "level": 20,
    "resolution": 0.14929107082380833,
    "scale": 564.248588
   },
   {
    "level": 21,
    "resolution": 0.07464553541190416,
    "scale": 282.124294
   },
   {
    "level": 22,
    "resolution": 0.03732276770595208,
    "scale": 141.062147
   },
   {
    "level": 23,
    "resolution": 0.01866138385297604,
    "scale": 70.5310735
   }
  ],
  "format": "MIXED",
  "compressionQuality": 75,
  "bandCount": 1,
  "lercError": 0,
  "storageFormat": "esriMapCacheStorageModeCompactV2",
  "packetSize": 128
 },
 "name": "data4portal_ntWebViewer",
 "serviceDescription": "",
 "spatialReference": {
  "wkid": 102100,
  "latestWkid": 3857,
  "xyTolerance": 0.001,
  "zTolerance": 0.001,
  "mTolerance": 0.001,
  "falseX": -20037700,
  "falseY": -30241100,
  "xyUnits": 10000,
  "falseZ": -100000,
  "zUnits": 10000,
  "falseM": -100000,
  "mUnits": 10000
 },
 "units": "esriMeters",
 "minLOD": 7,
 "maxLOD": 16,
 "resampling": true,
 "layers": [
  {
   "id": 70,
   "name": "laoxaidem2000_namTienDEMHs_NASAJPL2007",
   "parentLayerId": -1,
   "defaultVisibility": true,
   "subLayerIds": [
    69,
    10
   ],
   "minScale": 0,
   "maxScale": 0,
   "type": "Group Layer",
   "supportsDynamicLegends": false,
   "layerId": 70,
   "layerName": "laoxaidem2000_namTienDEMHs_NASAJPL2007",
   "serviceItemId": "89f71f14950b402aaf3d51ae3b908cea"
  },
  {
   "id": 69,
   "name": "laoxaihil2000_namTienHS_SRTMGL1",
   "parentLayerId": 70,
   "defaultVisibility": true,
   "subLayerIds": null,
   "minScale": 0,
   "maxScale": 0,
   "type": "Raster Layer",
   "supportsDynamicLegends": true,
   "legend": [
    {
     "label": "254 - 0",
     "imageData": "iVBORw0KGgoAAAANSUhEUgAAABQAAAA8CAYAAABmdppWAAAACXBIWXMAAA7EAAAOxAGVKw4bAAAAcElEQVRYhe2X0Q1AIQwC/WDJt/8WNNg3RPtBIjcAIadtFN39nUVAcjPvQNJuYFWZN6S9Q243vPfuBvI9h8qkTEEcjkEmZQwedCj79UV7h9xuWPaPJdk7lP3F1nsOad+wcspTEIdjkL/eGGTbjFl3+AM1x7JKbpTX1QAAAABJRU5ErkJggg==",
     "contentType": "image/png",
     "groupId": "0",
     "height": 60,
     "width": 20,
     "layerId": 69,
     "layerName": "laoxaihil2000_namTienHS_SRTMGL1"
    }
   ],
   "layerId": 69,
   "layerName": "laoxaihil2000_namTienHS_SRTMGL1",
   "serviceItemId": "89f71f14950b402aaf3d51ae3b908cea"
  },
  {
   "id": 10,
   "name": "laoxaidem2000_namTienDEMm_NASAJPL2007",
   "parentLayerId": 70,
   "defaultVisibility": true,
   "subLayerIds": null,
   "minScale": 0,
   "maxScale": 0,
   "type": "Raster Layer",
   "supportsDynamicLegends": true,
   "legend": [
    {
     "label": "<250",
     "imageData": "iVBORw0KGgoAAAANSUhEUgAAABQAAAAUCAYAAACNiR0NAAAACXBIWXMAAA7EAAAOxAGVKw4bAAAAQElEQVQ4jWNhoDJgoZmBasUM/ykx6FYvAyOKgdQCLKMGUgxYKDcCFYwaSDlgoYIZKGDUQMoBPAxh5RnVDKQWAACEwgS59DqH6gAAAABJRU5ErkJggg==",
     "contentType": "image/png",
     "groupId": "0",
     "height": 20,
     "width": 20,
     "layerId": 10,
     "layerName": "laoxaidem2000_namTienDEMm_NASAJPL2007"
    },
    {
     "label": "250-275",
     "imageData": "iVBORw0KGgoAAAANSUhEUgAAABQAAAAUCAYAAACNiR0NAAAACXBIWXMAAA7EAAAOxAGVKw4bAAAAQElEQVQ4jWNhoDJgoZmBthMZ/lNi0OF8BkYUA6kFWEYNpBiwUG4EKhg1kHLAQgUzUMCogZQDeBjCyjOqGUgtAABycwSERBKyMQAAAABJRU5ErkJggg==",
     "contentType": "image/png",
     "groupId": "0",
     "height": 20,
     "width": 20,
     "layerId": 10,
     "layerName": "laoxaidem2000_namTienDEMm_NASAJPL2007"
    },
    {
     "label": "275-300",
     "imageData": "iVBORw0KGgoAAAANSUhEUgAAABQAAAAUCAYAAACNiR0NAAAACXBIWXMAAA7EAAAOxAGVKw4bAAAAQElEQVQ4jWNhoDJgoZmBkesZ/lNi0PJABkYUA6kFWEYNpBiwUG4EKhg1kHLAQgUzUMCogZQDeBjCyjOqGUgtAABeZwRKyX7qnAAAAABJRU5ErkJggg==",
     "contentType": "image/png",
     "groupId": "0",
     "height": 20,
     "width": 20,
     "layerId": 10,
     "layerName": "laoxaidem2000_namTienDEMm_NASAJPL2007"
    },
    {
     "label": "300-375",
     "imageData": "iVBORw0KGgoAAAANSUhEUgAAABQAAAAUCAYAAACNiR0NAAAACXBIWXMAAA7EAAAOxAGVKw4bAAAAQElEQVQ4jWNhoDJgoZmBVWcZ/lNiUJsxAyOKgdQCLKMGUgxYKDcCFYwaSDlgoYIZKGDUQMoBPAxh5RnVDKQWAABIngQLfOxf1gAAAABJRU5ErkJggg==",
     "contentType": "image/png",
     "groupId": "0",
     "height": 20,
     "width": 20,
     "layerId": 10,
     "layerName": "laoxaidem2000_namTienDEMm_NASAJPL2007"
    },
    {
     "label": "325-350",
     "imageData": "iVBORw0KGgoAAAANSUhEUgAAABQAAAAUCAYAAACNiR0NAAAACXBIWXMAAA7EAAAOxAGVKw4bAAAAQElEQVQ4jWNhoDJgoZmB858z/KfEoERJBkYUA6kFWEYNpBiwUG4EKhg1kHLAQgUzUMCogZQDeBjCyjOqGUgtAAAy0QPMx3+JogAAAABJRU5ErkJggg==",
     "contentType": "image/png",
     "groupId": "0",
     "height": 20,
     "width": 20,
     "layerId": 10,
     "layerName": "laoxaidem2000_namTienDEMm_NASAJPL2007"
    },
    {
     "label": "350-375",
     "imageData": "iVBORw0KGgoAAAANSUhEUgAAABQAAAAUCAYAAACNiR0NAAAACXBIWXMAAA7EAAAOxAGVKw4bAAAAQElEQVQ4jWNhoDJgoZmB+98x/KfEIEchBkYUA6kFWEYNpBiwUG4EKhg1kHLAQgUzUMCogZQDeBjCyjOqGUgtAAAlSQOlhMoaFAAAAABJRU5ErkJggg==",
     "contentType": "image/png",
     "groupId": "0",
     "height": 20,
     "width": 20,
     "layerId": 10,
     "layerName": "laoxaidem2000_namTienDEMm_NASAJPL2007"
    },
    {
     "label": "375-400",
     "imageData": "iVBORw0KGgoAAAANSUhEUgAAABQAAAAUCAYAAACNiR0NAAAACXBIWXMAAA7EAAAOxAGVKw4bAAAAQElEQVQ4jWNhoDJgoZmBD74w/KfEIAUeBkYUA6kFWEYNpBiwUG4EKhg1kHLAQgUzUMCogZQDeBjCyjOqGUgtAAAXwAN+wM7yAgAAAABJRU5ErkJggg==",
     "contentType": "image/png",
     "groupId": "0",
     "height": 20,
     "width": 20,
     "layerId": 10,
     "layerName": "laoxaidem2000_namTienDEMm_NASAJPL2007"
    },
    {
     "label": "400-450",
     "imageData": "iVBORw0KGgoAAAANSUhEUgAAABQAAAAUCAYAAACNiR0NAAAACXBIWXMAAA7EAAAOxAGVKw4bAAAAQElEQVQ4jWNhoDJgoZmBvz8z/KfEIFZeBkYUA6kFWEYNpBiwUG4EKhg1kHLAQgUzUMCogZQDeBjCyjOqGUgtAAAOtQNklbIc+wAAAABJRU5ErkJggg==",
     "contentType": "image/png",
     "groupId": "0",
     "height": 20,
     "width": 20,
     "layerId": 10,
     "layerName": "laoxaidem2000_namTienDEMm_NASAJPL2007"
    },
    {
     "label": "450-500",
     "imageData": "iVBORw0KGgoAAAANSUhEUgAAABQAAAAUCAYAAACNiR0NAAAACXBIWXMAAA7EAAAOxAGVKw4bAAAAP0lEQVQ4jWNhoDJgoZmBf+7x/qfIIKXPjCgGUguwjBpIMWCh3AhUMGog5YCFCmaggFEDKQfwMISVZ1QzkFoAAA+DBWvYwXkcAAAAAElFTkSuQmCC",
     "contentType": "image/png",
     "groupId": "0",
     "height": 20,
     "width": 20,
     "layerId": 10,
     "layerName": "laoxaidem2000_namTienDEMm_NASAJPL2007"
    },
    {
     "label": "500-600",
     "imageData": "iVBORw0KGgoAAAANSUhEUgAAABQAAAAUCAYAAACNiR0NAAAACXBIWXMAAA7EAAAOxAGVKw4bAAAAQElEQVQ4jWNhoDJgoZmB387r/qfEIC7Dy4woBlILsIwaSDFgodwIVDBqIOWAhQpmoIBRAykH8DCElWdUM5BaAAAL4QVgQ549kQAAAABJRU5ErkJggg==",
     "contentType": "image/png",
     "groupId": "0",
     "height": 20,
     "width": 20,
     "layerId": 10,
     "layerName": "laoxaidem2000_namTienDEMm_NASAJPL2007"
    },
    {
     "label": "600-700",
     "imageData": "iVBORw0KGgoAAAANSUhEUgAAABQAAAAUCAYAAACNiR0NAAAACXBIWXMAAA7EAAAOxAGVKw4bAAAAQElEQVQ4jWNhoDJgoZmB7496/6fEIEHrrYwoBlILsIwaSDFgodwIVDBqIOWAhQpmoIBRAykH8DCElWdUM5BaAAAHjgVTbBQRoQAAAABJRU5ErkJggg==",
     "contentType": "image/png",
     "groupId": "0",
     "height": 20,
     "width": 20,
     "layerId": 10,
     "layerName": "laoxaidem2000_namTienDEMm_NASAJPL2007"
    },
    {
     "label": "700-800",
     "imageData": "iVBORw0KGgoAAAANSUhEUgAAABQAAAAUCAYAAACNiR0NAAAACXBIWXMAAA7EAAAOxAGVKw4bAAAAQElEQVQ4jWNhoDJgoZmBL/Zn/KfEIAnHGYwoBlILsIwaSDFgodwIVDBqIOWAhQpmoIBRAykH8DCElWdUM5BaAAACMgVDKjFVBQAAAABJRU5ErkJggg==",
     "contentType": "image/png",
     "groupId": "0",
     "height": 20,
     "width": 20,
     "layerId": 10,
     "layerName": "laoxaidem2000_namTienDEMm_NASAJPL2007"
    },
    {
     "label": "800-900",
     "imageData": "iVBORw0KGgoAAAANSUhEUgAAABQAAAAUCAYAAACNiR0NAAAACXBIWXMAAA7EAAAOxAGVKw4bAAAAQElEQVQ4jWNhoDJgoZmBdzbE/qfEIJWAxYwoBlILsIwaSDFgodwIVDBqIOWAhQpmoIBRAykH8DCElWdUM5BaAAAPQwVpfN3DBAAAAABJRU5ErkJggg==",
     "contentType": "image/png",
     "groupId": "0",
     "height": 20,
     "width": 20,
     "layerId": 10,
     "layerName": "laoxaidem2000_namTienDEMm_NASAJPL2007"
    },
    {
     "label": "900-1,000",
     "imageData": "iVBORw0KGgoAAAANSUhEUgAAABQAAAAUCAYAAACNiR0NAAAACXBIWXMAAA7EAAAOxAGVKw4bAAAAQElEQVQ4jWNhoDJgoZmBZ2ZZ/6fEIJO0o4woBlILsIwaSDFgodwIVDBqIOWAhQpmoIBRAykH8DCElWdUM5BaAAAn8QWxL0F5VgAAAABJRU5ErkJggg==",
     "contentType": "image/png",
     "groupId": "0",
     "height": 20,
     "width": 20,
     "layerId": 10,
     "layerName": "laoxaidem2000_namTienDEMm_NASAJPL2007"
    },
    {
     "label": "1,000-1,200",
     "imageData": "iVBORw0KGgoAAAANSUhEUgAAABQAAAAUCAYAAACNiR0NAAAACXBIWXMAAA7EAAAOxAGVKw4bAAAAQElEQVQ4jWNhoDJgoZmBe9rk/lNikEvVI0YUA6kFWEYNpBiwUG4EKhg1kHLAQgUzUMCogZQDeBjCyjOqGUgtAAA+PAXyueKz/gAAAABJRU5ErkJggg==",
     "contentType": "image/png",
     "groupId": "0",
     "height": 20,
     "width": 20,
     "layerId": 10,
     "layerName": "laoxaidem2000_namTienDEMm_NASAJPL2007"
    },
    {
     "label": "1,200-1,400",
     "imageData": "iVBORw0KGgoAAAANSUhEUgAAABQAAAAUCAYAAACNiR0NAAAACXBIWXMAAA7EAAAOxAGVKw4bAAAAQElEQVQ4jWNhoDJgoZmBa0pY/1NiUEjPb0YUA6kFWEYNpBiwUG4EKhg1kHLAQgUzUMCogZQDeBjCyjOqGUgtAABSewYtS27cngAAAABJRU5ErkJggg==",
     "contentType": "image/png",
     "groupId": "0",
     "height": 20,
     "width": 20,
     "layerId": 10,
     "layerName": "laoxaidem2000_namTienDEMm_NASAJPL2007"
    },
    {
     "label": "1,400-1,600",
     "imageData": "iVBORw0KGgoAAAANSUhEUgAAABQAAAAUCAYAAACNiR0NAAAACXBIWXMAAA7EAAAOxAGVKw4bAAAAQElEQVQ4jWNhoDJgoZmBu0vU/1NikGvPTUYUA6kFWEYNpBiwUG4EKhg1kHLAQgUzUMCogZQDeBjCyjOqGUgtAABBtgX8OpK3sQAAAABJRU5ErkJggg==",
     "contentType": "image/png",
     "groupId": "0",
     "height": 20,
     "width": 20,
     "layerId": 10,
     "layerName": "laoxaidem2000_namTienDEMm_NASAJPL2007"
    },
    {
     "label": "1,600-1,800",
     "imageData": "iVBORw0KGgoAAAANSUhEUgAAABQAAAAUCAYAAACNiR0NAAAACXBIWXMAAA7EAAAOxAGVKw4bAAAAQElEQVQ4jWNhoDJgoZmBFzuT/1NikH75XEYUA6kFWEYNpBiwUG4EKhg1kHLAQgUzUMCogZQDeBjCyjOqGUgtAAAedAWVpVBddgAAAABJRU5ErkJggg==",
     "contentType": "image/png",
     "groupId": "0",
     "height": 20,
     "width": 20,
     "layerId": 10,
     "layerName": "laoxaidem2000_namTienDEMm_NASAJPL2007"
    },
    {
     "label": "1,800-2,000",
     "imageData": "iVBORw0KGgoAAAANSUhEUgAAABQAAAAUCAYAAACNiR0NAAAACXBIWXMAAA7EAAAOxAGVKw4bAAAAQElEQVQ4jWNhoDJgoZmBL7au/k+JQRLeoYwoBlILsIwaSDFgodwIVDBqIOWAhQpmoIBRAykH8DCElWdUM5BaAADuzgUKW0JyjwAAAABJRU5ErkJggg==",
     "contentType": "image/png",
     "groupId": "0",
     "height": 20,
     "width": 20,
     "layerId": 10,
     "layerName": "laoxaidem2000_namTienDEMm_NASAJPL2007"
    }
   ],
   "layerId": 10,
   "layerName": "laoxaidem2000_namTienDEMm_NASAJPL2007"
  }
 ],
 "initialExtent": {
  "xmin": 1.1272658797186758E7,
  "ymin": 2141365.3426433834,
  "xmax": 1.1352499959795216E7,
  "ymax": 2219334.4742431254,
  "spatialReference": {
   "wkid": 102100,
   "latestWkid": 3857
  }
 },
 "fullExtent": {
  "xmin": 1.1272658797186758E7,
  "ymin": 2141365.3426433834,
  "xmax": 1.1352499959795216E7,
  "ymax": 2219334.4742431254,
  "spatialReference": {
   "wkid": 102100,
   "latestWkid": 3857
  }
 },
 "minScale": 0,
 "maxScale": 0,
 "exportTilesAllowed": false,
 "maxExportTilesCount": 0,
 "currentVersion": 11.5,
 "mapName": "data4portal_ntWebViewer",
 "singleFusedMapCache": true,
 "type": "MapServer",
 "supportedExtensions": "",
 "capabilities": "TilesOnly,Tilemap",
 "serviceItemId": "89f71f14950b402aaf3d51ae3b908cea"
}
