View In:
  ArcGIS JavaScript
  ArcGIS Online Map Viewer
  ArcGIS Earth
  ArcGIS Pro
Service Description:  
Map Name:  data4portal_ntWebViewer
Legend
All Layers and Tables
Layers: 
Description:  
Service Item Id:  89f71f14950b402aaf3d51ae3b908cea
Copyright Text:   
Spatial Reference: 
102100
 (3857)
 LatestVCSWkid(0)
Single Fused Map Cache:  true
Tile Info: 
- Height: 256.0
- Width: 256.0
- DPI: 96.0
- 
Levels of Detail:  24
- 
Level ID: 1
[ Start Tile, End Tile ]
- Resolution: 78271.5169639999
- Scale: 2.95828763795777E8
- 
Level ID: 2
[ Start Tile, End Tile ]
- Resolution: 39135.7584820001
- Scale: 1.47914381897889E8
- 
Level ID: 3
[ Start Tile, End Tile ]
- Resolution: 19567.8792409999
- Scale: 7.3957190948944E7
- 
Level ID: 4
[ Start Tile, End Tile ]
- Resolution: 9783.93962049996
- Scale: 3.6978595474472E7
- 
Level ID: 5
[ Start Tile, End Tile ]
- Resolution: 4891.96981024998
- Scale: 1.8489297737236E7
- Format: MIXED
- Compression Quality: 75.0
- Origin: X:  -2.0037508342787E7
 Y:  2.0037508342787E7
 
- Spatial Reference: 102100
 (3857)
 LatestVCSWkid(0)
 
Storage Info:
- Storage Format: esriMapCacheStorageModeCompactV2
- Packet Size: 128
Initial Extent:
XMin: 1.1272658797186758E7
YMin: 2141365.3426433834
XMax: 1.1352499959795216E7
YMax: 2219334.4742431254
Spatial Reference: 102100
 (3857)
 LatestVCSWkid(0)
Full Extent:
XMin: 1.1272658797186758E7
YMin: 2141365.3426433834
XMax: 1.1352499959795216E7
YMax: 2219334.4742431254
Spatial Reference: 102100
 (3857)
 LatestVCSWkid(0)
Units: esriMeters
Supported Image Format Types:  
Document Info: 
Supports Dynamic Layers:  false
Resampling:  true
MaxRecordCount:  0
MaxSelectionCount:  0
MaxImageHeight:  0
MaxImageWidth:  0
Supported Query Formats:  
Supports Query Data Elements:  
Min Scale:  0
Max Scale:  0
Min LOD:  7
Max LOD:  16
Child Resources:
  
Info
 
Supported Operations:
  
QueryLegends
  Return Updates